﻿BEGIN:VCALENDAR
VERSION:2.0
PRODID:-//Office of the Governor - ECPv5.3.2.1//NONSGML v1.0//EN
CALSCALE:GREGORIAN
METHOD:PUBLISH
X-WR-CALNAME:Office of the Governor
X-ORIGINAL-URL:https://gov.idaho.gov
X-WR-CALDESC:Events for Office of the Governor
BEGIN:VTIMEZONE
TZID:America/Boise
BEGIN:DAYLIGHT
TZOFFSETFROM:-0700
TZOFFSETTO:-0600
TZNAME:MDT
DTSTART:20210314T090000
END:DAYLIGHT
BEGIN:STANDARD
TZOFFSETFROM:-0600
TZOFFSETTO:-0700
TZNAME:MST
DTSTART:20211107T080000
END:STANDARD
END:VTIMEZONE
BEGIN:VEVENT
DTSTART;TZID=America/Boise:20210416T150000
DTEND;TZID=America/Boise:20210416T153000
DTSTAMP:20210520T142906
CREATED:20210416T182546Z
LAST-MODIFIED:20210416T182546Z
UID:68614-1618585200-1618587000@gov.idaho.gov
SUMMARY:Gov. Little's special announcement on emergency powers
DESCRIPTION:Governor Brad Little will make an announcement regarding emergency powers on Friday\, April 16\, at 3:00 p.m. MT. The announcement will be broadcast to the public online here.
URL:https://gov.idaho.gov/event/gov-littles-special-announcement-on-emergency-powers/
END:VEVENT
END:VCALENDAR