﻿BEGIN:VCALENDAR
VERSION:2.0
PRODID:-//Office of the Governor - ECPv5.3.2.1//NONSGML v1.0//EN
CALSCALE:GREGORIAN
METHOD:PUBLISH
X-WR-CALNAME:Office of the Governor
X-ORIGINAL-URL:https://gov.idaho.gov
X-WR-CALDESC:Events for Office of the Governor
BEGIN:VTIMEZONE
TZID:America/Boise
BEGIN:DAYLIGHT
TZOFFSETFROM:-0700
TZOFFSETTO:-0600
TZNAME:MDT
DTSTART:20200308T090000
END:DAYLIGHT
BEGIN:STANDARD
TZOFFSETFROM:-0600
TZOFFSETTO:-0700
TZNAME:MST
DTSTART:20201101T080000
END:STANDARD
END:VTIMEZONE
BEGIN:VEVENT
DTSTART;TZID=America/Boise:20200917T100000
DTEND;TZID=America/Boise:20200917T110000
DTSTAMP:20210811T082848
CREATED:20200914T175341Z
LAST-MODIFIED:20200914T175341Z
UID:24606-1600336800-1600340400@gov.idaho.gov
SUMMARY:Groundbreaking ceremony for Project Supro
DESCRIPTION:Governor Little will attend the groundbreaking ceremony for Project Supro\, 2330 Ave. W.\, Jerome\, at 10 a.m.
URL:https://gov.idaho.gov/event/groundbreaking-ceremony-for-project-supro/
END:VEVENT
END:VCALENDAR