﻿BEGIN:VCALENDAR
VERSION:2.0
PRODID:-//Office of the Governor - ECPv5.3.2.1//NONSGML v1.0//EN
CALSCALE:GREGORIAN
METHOD:PUBLISH
X-WR-CALNAME:Office of the Governor
X-ORIGINAL-URL:https://gov.idaho.gov
X-WR-CALDESC:Events for Office of the Governor
BEGIN:VTIMEZONE
TZID:America/Boise
BEGIN:DAYLIGHT
TZOFFSETFROM:-0700
TZOFFSETTO:-0600
TZNAME:MDT
DTSTART:20200308T090000
END:DAYLIGHT
BEGIN:STANDARD
TZOFFSETFROM:-0600
TZOFFSETTO:-0700
TZNAME:MST
DTSTART:20201101T080000
END:STANDARD
END:VTIMEZONE
BEGIN:VEVENT
DTSTART;TZID=America/Boise:20200915T150000
DTEND;TZID=America/Boise:20200915T153000
DTSTAMP:20210811T082820
CREATED:20200914T175140Z
LAST-MODIFIED:20200914T175140Z
UID:24600-1600182000-1600183800@gov.idaho.gov
SUMMARY:Hispanic Heritage Month proclamation signing
DESCRIPTION:Governor Little will issue a proclamation for Hispanic Heritage Month in the Capitol Rotunda at 3 p.m. Mountain Time.
URL:https://gov.idaho.gov/event/hispanic-heritage-month-proclamation-signing/
END:VEVENT
END:VCALENDAR