﻿BEGIN:VCALENDAR
VERSION:2.0
PRODID:-//Office of the Governor - ECPv5.3.2.1//NONSGML v1.0//EN
CALSCALE:GREGORIAN
METHOD:PUBLISH
X-WR-CALNAME:Office of the Governor
X-ORIGINAL-URL:https://gov.idaho.gov
X-WR-CALDESC:Events for Office of the Governor
BEGIN:VTIMEZONE
TZID:America/Boise
BEGIN:DAYLIGHT
TZOFFSETFROM:-0700
TZOFFSETTO:-0600
TZNAME:MDT
DTSTART:20210314T090000
END:DAYLIGHT
BEGIN:STANDARD
TZOFFSETFROM:-0600
TZOFFSETTO:-0700
TZNAME:MST
DTSTART:20211107T080000
END:STANDARD
END:VTIMEZONE
BEGIN:VEVENT
DTSTART;TZID=America/Boise:20210216T090000
DTEND;TZID=America/Boise:20210216T110000
DTSTAMP:20210528T031238
CREATED:20210215T194526Z
LAST-MODIFIED:20210215T194526Z
UID:56718-1613466000-1613473200@gov.idaho.gov
SUMMARY:Land Board meeting
DESCRIPTION:Governor Little will chair the virtual Land Board Meeting at 9 a.m. MT. on Tuesday\, Feb. 16\, 2021. Participation details available at https://www.idl.idaho.gov/.  
URL:https://gov.idaho.gov/event/land-board-meeting-8/
END:VEVENT
END:VCALENDAR