﻿BEGIN:VCALENDAR
VERSION:2.0
PRODID:-//Office of the Governor - ECPv5.3.2.1//NONSGML v1.0//EN
CALSCALE:GREGORIAN
METHOD:PUBLISH
X-WR-CALNAME:Office of the Governor
X-ORIGINAL-URL:https://gov.idaho.gov
X-WR-CALDESC:Events for Office of the Governor
BEGIN:VTIMEZONE
TZID:America/Boise
BEGIN:DAYLIGHT
TZOFFSETFROM:-0700
TZOFFSETTO:-0600
TZNAME:MDT
DTSTART:20200308T090000
END:DAYLIGHT
BEGIN:STANDARD
TZOFFSETFROM:-0600
TZOFFSETTO:-0700
TZNAME:MST
DTSTART:20201101T080000
END:STANDARD
END:VTIMEZONE
BEGIN:VEVENT
DTSTART;TZID=America/Boise:20200716T140000
DTEND;TZID=America/Boise:20200716T150000
DTSTAMP:20210808T195829
CREATED:20200716T191503Z
LAST-MODIFIED:20200716T191503Z
UID:15506-1594908000-1594911600@gov.idaho.gov
SUMMARY:Press Conference with President Trump on Regulatory Innovation and Cutting Red Tape
DESCRIPTION:Watch at https://www.whitehouse.gov/live/. \nGov. Brad Little will join President Trump as he speaks from the White House South Lawn on the importance of regulatory innovation and cutting red tape. \n 
URL:https://gov.idaho.gov/event/press-conference-with-president-trump-on-regulatory-innovation-and-cutting-red-tape/
END:VEVENT
END:VCALENDAR